BEGIN:VCALENDAR
VERSION:2.0
PRODID:-//Asthal Parish Council//Meeting Calendar//EN
CALSCALE:GREGORIAN
METHOD:PUBLISH
BEGIN:VEVENT
UID:70535-20250520@asthalparishcouncil.gov.uk
DTSTAMP:20260422T203604Z
DTSTART;VALUE=DATE:20250520
DTEND;VALUE=DATE:20250521
SUMMARY:Annual Council Meeting &#8211\\; 20th May 2025
DESCRIPTION:Annual Parish Meeting\nView details: https://asthalparishcouncil.gov.uk/meetings/annual-council-meeting-20th-may-2025/
URL:https://asthalparishcouncil.gov.uk/meetings/annual-council-meeting-20th-may-2025/
END:VEVENT
END:VCALENDAR
