BEGIN:VCALENDAR
VERSION:2.0
PRODID:-//Asthal Parish Council//Meeting Calendar//EN
CALSCALE:GREGORIAN
METHOD:PUBLISH
BEGIN:VEVENT
UID:70529-20230523@asthalparishcouncil.gov.uk
DTSTAMP:20260422T220740Z
DTSTART;VALUE=DATE:20230523
DTEND;VALUE=DATE:20230524
SUMMARY:Annual Council Meeting &#8211\\; 23rd May 2023
DESCRIPTION:Annual Parish Meeting\nView details: https://asthalparishcouncil.gov.uk/meetings/annual-council-meeting-23rd-may-2023/
URL:https://asthalparishcouncil.gov.uk/meetings/annual-council-meeting-23rd-may-2023/
END:VEVENT
END:VCALENDAR
